BEGIN:VCALENDAR
VERSION:2.0
PRODID:-//National Emergency Generator Dealer Association - ECPv6.15.20//NONSGML v1.0//EN
CALSCALE:GREGORIAN
METHOD:PUBLISH
X-ORIGINAL-URL:https://www.negda.org
X-WR-CALDESC:Events for National Emergency Generator Dealer Association
REFRESH-INTERVAL;VALUE=DURATION:PT1H
X-Robots-Tag:noindex
X-PUBLISHED-TTL:PT1H
BEGIN:VTIMEZONE
TZID:UTC
BEGIN:STANDARD
TZOFFSETFROM:+0000
TZOFFSETTO:+0000
TZNAME:UTC
DTSTART:20240101T000000
END:STANDARD
END:VTIMEZONE
BEGIN:VEVENT
DTSTART;TZID=UTC:20251016T180000
DTEND;TZID=UTC:20251017T120000
DTSTAMP:20260424T060938
CREATED:20240613T112511Z
LAST-MODIFIED:20250204T203304Z
UID:1153-1760637600-1760702400@www.negda.org
SUMMARY:Fall Social & Meeting
DESCRIPTION:Fall Social & Check-In\n\nLocation & Details TBD | General Format below: \n\nThursday night social event @ 6PM: The activity is TBD but the opportunity is to network and socialize with your fellow generator dealer peers\, manufacturers\, distributors\, suppliers\, and professional service providers.  Our socials are always a great time and consistently viewed as one of the most valuable parts of membership.\nFriday 9AM – 4PM:
URL:https://www.negda.org/event/october-2025-social-moderated-open-forum/
LOCATION:MA
ORGANIZER;CN="NEGDA":MAILTO:info@negda.org
END:VEVENT
END:VCALENDAR