BEGIN:VCALENDAR
VERSION:2.0
PRODID:-//National Emergency Generator Dealer Association - ECPv6.15.20//NONSGML v1.0//EN
CALSCALE:GREGORIAN
METHOD:PUBLISH
X-ORIGINAL-URL:https://www.negda.org
X-WR-CALDESC:Events for National Emergency Generator Dealer Association
REFRESH-INTERVAL;VALUE=DURATION:PT1H
X-Robots-Tag:noindex
X-PUBLISHED-TTL:PT1H
BEGIN:VTIMEZONE
TZID:UTC
BEGIN:STANDARD
TZOFFSETFROM:+0000
TZOFFSETTO:+0000
TZNAME:UTC
DTSTART:20240101T000000
END:STANDARD
END:VTIMEZONE
BEGIN:VEVENT
DTSTART;TZID=UTC:20250604T180000
DTEND;TZID=UTC:20250606T120000
DTSTAMP:20260424T130538
CREATED:20240613T111746Z
LAST-MODIFIED:20250325T224131Z
UID:1146-1749060000-1749211200@www.negda.org
SUMMARY:2025 Conference & Annual Meeting
DESCRIPTION:
URL:https://www.negda.org/event/2025-annual-conference/
LOCATION:MA
ORGANIZER;CN="NEGDA":MAILTO:info@negda.org
END:VEVENT
END:VCALENDAR