BEGIN:VCALENDAR
VERSION:2.0
PRODID:-//National Emergency Generator Dealer Association - ECPv6.15.20//NONSGML v1.0//EN
CALSCALE:GREGORIAN
METHOD:PUBLISH
X-ORIGINAL-URL:https://www.negda.org
X-WR-CALDESC:Events for National Emergency Generator Dealer Association
REFRESH-INTERVAL;VALUE=DURATION:PT1H
X-Robots-Tag:noindex
X-PUBLISHED-TTL:PT1H
BEGIN:VTIMEZONE
TZID:UTC
BEGIN:STANDARD
TZOFFSETFROM:+0000
TZOFFSETTO:+0000
TZNAME:UTC
DTSTART:20240101T000000
END:STANDARD
END:VTIMEZONE
BEGIN:VEVENT
DTSTART;TZID=UTC:20250205T090000
DTEND;TZID=UTC:20250205T120000
DTSTAMP:20260424T200520
CREATED:20240613T111237Z
LAST-MODIFIED:20240613T112109Z
UID:1142-1738746000-1738756800@www.negda.org
SUMMARY:February 2025 Virtual Membership Meeting
DESCRIPTION:Virtual Meeting via Teams\nThe general format of our virtual membership meetings are: \n\n9AM – Noon\nThree\, 45 minute presentations\nVaried topics of discussion\n\n  \n 
URL:https://www.negda.org/event/virtual-membership-meeting/
LOCATION:MA
ORGANIZER;CN="NEGDA":MAILTO:info@negda.org
END:VEVENT
BEGIN:VEVENT
DTSTART;TZID=UTC:20250217T120000
DTEND;TZID=UTC:20250217T123000
DTSTAMP:20260424T200520
CREATED:20250204T204004Z
LAST-MODIFIED:20250204T204631Z
UID:1632-1739793600-1739795400@www.negda.org
SUMMARY:Get To Know NEGDA: A Virtual Q &A
DESCRIPTION:Join Us for a 30 minute Virtual Q&A session via Teams designed to answer:\n\nWho Is NEGDA\nWhy We Exist\nWhat We Look For In A Dealer Member\nThe Membership Process\nUpcoming Events\n\nRegistration is Required and Can Be Completed Here
URL:https://www.negda.org/event/get-to-know-negda-a-virtual-q-a-2/
LOCATION:MA
END:VEVENT
BEGIN:VEVENT
DTSTART;TZID=UTC:20250218T080000
DTEND;TZID=UTC:20250218T080000
DTSTAMP:20260424T200520
CREATED:20250204T203549Z
LAST-MODIFIED:20250204T204520Z
UID:1626-1739865600-1739865600@www.negda.org
SUMMARY:Get To Know NEGDA: A Virtual Q &A
DESCRIPTION:Join Us for a 30 minute Virtual Q&A session via Teams designed to answer:\n\nWho Is NEGDA\nWhy We Exist\nWhat We Look For In A Dealer Member\nThe Membership Process\nUpcoming Events\n\nRegistration is Required and Can Be Completed Here
URL:https://www.negda.org/event/get-to-know-negda-a-virtual-q-a/
LOCATION:MA
END:VEVENT
END:VCALENDAR