BEGIN:VCALENDAR
VERSION:2.0
PRODID:-//National Emergency Generator Dealer Association - ECPv6.15.20//NONSGML v1.0//EN
CALSCALE:GREGORIAN
METHOD:PUBLISH
X-WR-CALNAME:National Emergency Generator Dealer Association
X-ORIGINAL-URL:https://www.negda.org
X-WR-CALDESC:Events for National Emergency Generator Dealer Association
REFRESH-INTERVAL;VALUE=DURATION:PT1H
X-Robots-Tag:noindex
X-PUBLISHED-TTL:PT1H
BEGIN:VTIMEZONE
TZID:UTC
BEGIN:STANDARD
TZOFFSETFROM:+0000
TZOFFSETTO:+0000
TZNAME:UTC
DTSTART:20230101T000000
END:STANDARD
END:VTIMEZONE
BEGIN:VEVENT
DTSTART;TZID=UTC:20241017T180000
DTEND;TZID=UTC:20241018T120000
DTSTAMP:20260425T025706
CREATED:20240613T110400Z
LAST-MODIFIED:20240924T160230Z
UID:1136-1729188000-1729252800@www.negda.org
SUMMARY:Fall Social & NEGDA Annual Meeting
DESCRIPTION:We’ve added an in-person meeting to our 2024 calendar!\n\nWe’re thrilled for you to join us Thursday\, October 17th @ 6PM for our Fall Social & Meeting at the New England Air Museum in Windsor Locks\, CT.\n \nThis event is sure to be an unforgettable experience in their impressive military hangar\, reserved just for NEGDA. Enjoy hors oeuvres\, dinner\, and a full bar\, all served inside the hangar. This unique opportunity will allow you to get up close to historic aircraft\, participate in flight simulators\, and tour the museum alongside your fellow NEGDA members and business partners.  Our socials are always a great time and consistently viewed as one of the most valuable parts of membership. \nThe excitement continues on Friday morning with breakfast\, a 2-hour presentation regarding 2023 NEC safety and compliance items pertaining to generator installations\, and our Annual Meeting. \nAgenda\nThursday\, October 17\n5:45PM: Transportation will arrive at the Hampton Inn to transport NEGDA Members to The New England Air Museum \n6-9PM: Social at New England Air Museum \n9PM: Transportation will arrive to transport NEGDA Members back to the Hampton Inn \nFriday\, October 18\n8AM: Breakfast catered at The New England Air Museum \n9-11AM: 2024 NEC  Safety and Compliance standards related to standby generator installations | Presentation by Brian King\, Senior Manager Technical Applications\, Generac. \n11AM-Noon: NEGDA Annual Meeting of the Membership \nNoon: Meeting Adjourned \nRegistration\nRegistration is $265/person and is open to NEGDA Members\, prospective members\, manufacturers\, distributors\, vendors\, and professional service providers. \nRegistration includes: transportation to/from the Museum on Thursday evening\, admission to the museum\, all food\, two drink tickets\, breakfast Friday morning\, and the Friday meeting. \nREGISTER HERE!\n\nHotel Accommodations\nWe have arranged for a discounted hotel room block at the Hampton Inn Hartford/Airport.  The NEGDA rate of $129/night plus tax is available until 9/23/24. \nBOOK HOTEL DIRECTLY HERE
URL:https://www.negda.org/event/social-moderated-open-forum/
LOCATION:MA
ORGANIZER;CN="NEGDA":MAILTO:info@negda.org
END:VEVENT
END:VCALENDAR