BEGIN:VCALENDAR
VERSION:2.0
PRODID:-//National Emergency Generator Dealer Association - ECPv6.15.20//NONSGML v1.0//EN
CALSCALE:GREGORIAN
METHOD:PUBLISH
X-WR-CALNAME:National Emergency Generator Dealer Association
X-ORIGINAL-URL:https://www.negda.org
X-WR-CALDESC:Events for National Emergency Generator Dealer Association
REFRESH-INTERVAL;VALUE=DURATION:PT1H
X-Robots-Tag:noindex
X-PUBLISHED-TTL:PT1H
BEGIN:VTIMEZONE
TZID:UTC
BEGIN:STANDARD
TZOFFSETFROM:+0000
TZOFFSETTO:+0000
TZNAME:UTC
DTSTART:20230101T000000
END:STANDARD
END:VTIMEZONE
BEGIN:VEVENT
DTSTART;TZID=UTC:20240328T180000
DTEND;TZID=UTC:20240329T153000
DTSTAMP:20260425T153308
CREATED:20231211T190440Z
LAST-MODIFIED:20240308T170111Z
UID:707-1711648800-1711726200@www.negda.org
SUMMARY:March In-Person Membership Meeting
DESCRIPTION:Join us in Glastonbury\, CT for our first in-person meeting of 2024!\n \nThursday\, March 28th\n6PM: Casual Dinner at a nearby restaurant with your fellow members. \nFriday\, March 29th\n8AM: Breakfast Buffet & Networking \n9-11:45AM: Morning Presentations \nNoon-1PM: Lunch (provided) \n1-2:45PM: Afternoon Presentations \n2:45-3PM: Closing Remarks \nThe lineup of speakers/topics include:\n     \nRegistration for this meeting is:\n$135/person for NEGDA Members and invited Dealers\n$235/person for Manufacturers\, Distributors\, and Vendors\nRegistration includes dinner Thursday evening\, Breakfast\, Lunch and Meeting Lineup on Friday. \nA room block and discounted rate of $129/night + tax has been reserved for our group until February 27\, 2024.  After this\, the rate will increase to $149/night and there is no guarantee of availability. \n**Meeting Registration can be completed online here**\n  \nHotel Room Reservations can be made online via our hotel block link or by calling 1-877-782-9444 and request the NEGDA March Meeting group rate\, or group code 90N.
URL:https://www.negda.org/event/march-in-person-membership-meeting/
LOCATION:Hilton Garden Inn Glastonbury\, 85 Glastonbury Blvd\, Glastonbury\, CT\, 06033
ORGANIZER;CN="NEGDA":MAILTO:info@negda.org
END:VEVENT
END:VCALENDAR