BEGIN:VCALENDAR
VERSION:2.0
PRODID:-//National Emergency Generator Dealer Association - ECPv6.15.20//NONSGML v1.0//EN
CALSCALE:GREGORIAN
METHOD:PUBLISH
X-ORIGINAL-URL:https://www.negda.org
X-WR-CALDESC:Events for National Emergency Generator Dealer Association
REFRESH-INTERVAL;VALUE=DURATION:PT1H
X-Robots-Tag:noindex
X-PUBLISHED-TTL:PT1H
BEGIN:VTIMEZONE
TZID:UTC
BEGIN:STANDARD
TZOFFSETFROM:+0000
TZOFFSETTO:+0000
TZNAME:UTC
DTSTART:20230101T000000
END:STANDARD
END:VTIMEZONE
BEGIN:VEVENT
DTSTART;TZID=UTC:20240118T090000
DTEND;TZID=UTC:20240118T120000
DTSTAMP:20260423T220837
CREATED:20231211T185131Z
LAST-MODIFIED:20231221T154035Z
UID:702-1705568400-1705579200@www.negda.org
SUMMARY:January Virtual Membership Meeting
DESCRIPTION:Join us for our first meeting of 2024.\nThe lineup of speakers/topics include:\n \n\nWalk-thru NEGDA Member Portal & Resources\nDiscuss exploration of a NEGDA-sponsored Technician Training School\nGeneral Membership Discussion (topics TBD)\n\n \nMany of us started as tradespeople and have evolved into business professionals leading an organization of dozens of employees and millions of dollars.  Chris will discuss how to take the existing framework of your organization and evolve into a scalable\, valuable business. \n \nRobin will discuss how to set industry-specific profitable\, sustainable labor and pay rates. \n  \nRegistration for this virtual meeting is FREE and open to NEGDA Members and invited Dealers\, only.\nRegister via the form below and Teams Meeting information will be emailed to you prior to the meeting.\nPlease enable JavaScript in your browser to complete this form.Please enable JavaScript in your browser to complete this form.CompanyName of Attendee *FirstLastEmail *Register Me
URL:https://www.negda.org/event/january-virtual-meeting/
ORGANIZER;CN="NEGDA":MAILTO:info@negda.org
END:VEVENT
END:VCALENDAR