BEGIN:VCALENDAR
VERSION:2.0
PRODID:-//National Emergency Generator Dealer Association - ECPv6.15.20//NONSGML v1.0//EN
CALSCALE:GREGORIAN
METHOD:PUBLISH
X-ORIGINAL-URL:https://www.negda.org
X-WR-CALDESC:Events for National Emergency Generator Dealer Association
REFRESH-INTERVAL;VALUE=DURATION:PT1H
X-Robots-Tag:noindex
X-PUBLISHED-TTL:PT1H
BEGIN:VTIMEZONE
TZID:UTC
BEGIN:STANDARD
TZOFFSETFROM:+0000
TZOFFSETTO:+0000
TZNAME:UTC
DTSTART:20250101T000000
END:STANDARD
END:VTIMEZONE
BEGIN:VEVENT
DTSTART;TZID=UTC:20260603T180000
DTEND;TZID=UTC:20260605T120000
DTSTAMP:20260423T193305
CREATED:20260113T181259Z
LAST-MODIFIED:20260414T125656Z
UID:2202-1780509600-1780660800@www.negda.org
SUMMARY:Conference & Annual Meeting
DESCRIPTION:Learn More & Register Here
URL:https://www.negda.org/event/conference-annual-meeting/
LOCATION:MA
END:VEVENT
END:VCALENDAR