BEGIN:VCALENDAR
VERSION:2.0
PRODID:-//National Emergency Generator Dealer Association - ECPv6.15.20//NONSGML v1.0//EN
CALSCALE:GREGORIAN
METHOD:PUBLISH
X-ORIGINAL-URL:https://www.negda.org
X-WR-CALDESC:Events for National Emergency Generator Dealer Association
REFRESH-INTERVAL;VALUE=DURATION:PT1H
X-Robots-Tag:noindex
X-PUBLISHED-TTL:PT1H
BEGIN:VTIMEZONE
TZID:UTC
BEGIN:STANDARD
TZOFFSETFROM:+0000
TZOFFSETTO:+0000
TZNAME:UTC
DTSTART:20250101T000000
END:STANDARD
END:VTIMEZONE
BEGIN:VEVENT
DTSTART;TZID=UTC:20260409T080000
DTEND;TZID=UTC:20260410T170000
DTSTAMP:20260423T193139
CREATED:20260206T185909Z
LAST-MODIFIED:20260217T190700Z
UID:2290-1775721600-1775840400@www.negda.org
SUMMARY:Generator Fundamentals: Air Cooled Systems (Level 1) - April 9 & 10
DESCRIPTION:Learn More & Register Here
URL:https://www.negda.org/event/generator-fundamentals-air-cooled-systems-level-1/
LOCATION:New England Generator Corp.\, 18 Columbia Rd.\, Suite 204\, Pembroke\, MA\, 02359\, United States
ORGANIZER;CN="NEGDA":MAILTO:info@negda.org
END:VEVENT
END:VCALENDAR